BEGIN:VCALENDAR
VERSION:2.0
PRODID:-//wp-events-plugin.com//7.0.5//EN
BEGIN:VEVENT
UID:8@campusclc.finis.cl
DTSTART:20250314T123000Z
DTEND:20250314T220000Z
DTSTAMP:20250124T151307Z
URL:https://campusclc.finis.cl/events/jornadas-multidisciplinarias-medicin
 a-del-sueno-en-atencion-primaria-de-salud/
SUMMARY:Jornadas Multidisciplinarias: "Medicina del sueño en Atención Pri
 maria de Salud"
DESCRIPTION:\nJornadas Multidisciplinarias: "Medicina del sueño en Atenci
 ón Primaria de Salud".\n\n\n \nFecha: Viernes 14 de marzo 2025.\n\n\nHo
 rario:  08:30 a 18:00 horas.\n\nLugar: Clínica Las Condes - Auditorio Ma
 uricio Wainer.\n\nModalidad: Presencial - Gratuita.\n\nDirigido: Profesion
 ales de la salud que trabajen en Atención Primaria de Salud (adultos y ni
 ños)\;  médicos/as\, kinesiólogos/as\, enfermeros/as\, fonoaudiólogo 
 /a\, odontólogos/as.\n\nInvitado internacional: Dr. Daniel Pérez-Chada.\
 n\n 	Consultor del servicio de Neumología del Hospital Universitario Aust
 ral (Prov. Buenos Aires\, Argentina).\n 	Profesor adjunto medicina Univers
 idad Austral.\n 	Director de la clínica del sueño del Hospital Universit
 ario Austral.\n 	Presidente de la fundación Argentina del Sueño.\n\n\nDi
 rectores de la jornada:\n\n 	Klga. Montserrat Sánchez.\n 	Dra. Evelyn Ben
 avides.\n 	Dr. Jorge Jorquera.\n\n\nRevisa el programa completo en el sigu
 iente enlace: Jornadas Multidisciplinarias: "Medicina del sueño en Atenci
 ón Primaria de Salud".\n\n¡GRATUITO Y EN MODALIDAD PRESENCIAL! INSCRÍBE
 TE EN EL ENLACE A CONTINUACIÓN: FORMULARIO DE INSCRIPCIÓN.\n\n\n
LOCATION:Clínica Las Condes\, Estoril #450 Las Condes\, Santiago\, Borrado
 r\, Chile
X-APPLE-STRUCTURED-LOCATION;VALUE=URI;X-ADDRESS=Estoril #450 Las Condes\, S
 antiago\, Borrador\, Chile;X-APPLE-RADIUS=100;X-TITLE=Clínica Las Condes:
 geo:0,0
END:VEVENT
END:VCALENDAR